BEGIN:VCALENDAR
VERSION:2.0
PRODID:-//Mooresville Now - ECPv6.15.20//NONSGML v1.0//EN
CALSCALE:GREGORIAN
METHOD:PUBLISH
X-ORIGINAL-URL:https://mooresvillenow.com
X-WR-CALDESC:Events for Mooresville Now
REFRESH-INTERVAL;VALUE=DURATION:PT1H
X-Robots-Tag:noindex
X-PUBLISHED-TTL:PT1H
BEGIN:VTIMEZONE
TZID:America/New_York
BEGIN:DAYLIGHT
TZOFFSETFROM:-0500
TZOFFSETTO:-0400
TZNAME:EDT
DTSTART:20230312T070000
END:DAYLIGHT
BEGIN:STANDARD
TZOFFSETFROM:-0400
TZOFFSETTO:-0500
TZNAME:EST
DTSTART:20231105T060000
END:STANDARD
BEGIN:DAYLIGHT
TZOFFSETFROM:-0500
TZOFFSETTO:-0400
TZNAME:EDT
DTSTART:20240310T070000
END:DAYLIGHT
BEGIN:STANDARD
TZOFFSETFROM:-0400
TZOFFSETTO:-0500
TZNAME:EST
DTSTART:20241103T060000
END:STANDARD
BEGIN:DAYLIGHT
TZOFFSETFROM:-0500
TZOFFSETTO:-0400
TZNAME:EDT
DTSTART:20250309T070000
END:DAYLIGHT
BEGIN:STANDARD
TZOFFSETFROM:-0400
TZOFFSETTO:-0500
TZNAME:EST
DTSTART:20251102T060000
END:STANDARD
END:VTIMEZONE
BEGIN:VEVENT
DTSTART;TZID=America/New_York:20241004T133000
DTEND;TZID=America/New_York:20241004T170000
DTSTAMP:20260422T182954
CREATED:20240930T220614Z
LAST-MODIFIED:20241001T005326Z
UID:3461-1728048600-1728061200@mooresvillenow.com
SUMMARY:Uncorked & Artsy
DESCRIPTION:With a hint of fall in the air – mark your calendars for the next Uncorked & Artsy!\n\nOctober 4\, from 5:30-9pm! It will be a celebration of the arts featuring 30+ artists\, live painting demos\, wine & craft beer tastings\, plus live music\, store specials\, light appetizers\, and more!\n\nTickets can be purchased in person at 202 Fine Wines\, Spirits & Music Room\, Four Corners Framing & Gallery and Mooresville Arts.ORVisit www.downtownmooresville.com/Happening-Now to purchase online.\n\nTickets are $30 per person and include 16* tastings and a souvenir Downtown Uncorked & Artsy glass. The art and live music performances are free to attend\, and the Downtown Social District will be in place and doesn’t require a ticket purchase. Net proceeds directly benefit Mooresville Arts!
URL:https://mooresvillenow.com/event/uncorked-artsy/
CATEGORIES:Community Event
ATTACH;FMTTYPE=image/jpeg:https://mooresvillenow.com/wp-content/uploads/2024/09/6.jpg
END:VEVENT
END:VCALENDAR