BEGIN:VCALENDAR
VERSION:2.0
PRODID:-//Mooresville Now - ECPv6.15.20//NONSGML v1.0//EN
CALSCALE:GREGORIAN
METHOD:PUBLISH
X-ORIGINAL-URL:https://mooresvillenow.com
X-WR-CALDESC:Events for Mooresville Now
REFRESH-INTERVAL;VALUE=DURATION:PT1H
X-Robots-Tag:noindex
X-PUBLISHED-TTL:PT1H
BEGIN:VTIMEZONE
TZID:America/New_York
BEGIN:DAYLIGHT
TZOFFSETFROM:-0500
TZOFFSETTO:-0400
TZNAME:EDT
DTSTART:20230312T070000
END:DAYLIGHT
BEGIN:STANDARD
TZOFFSETFROM:-0400
TZOFFSETTO:-0500
TZNAME:EST
DTSTART:20231105T060000
END:STANDARD
BEGIN:DAYLIGHT
TZOFFSETFROM:-0500
TZOFFSETTO:-0400
TZNAME:EDT
DTSTART:20240310T070000
END:DAYLIGHT
BEGIN:STANDARD
TZOFFSETFROM:-0400
TZOFFSETTO:-0500
TZNAME:EST
DTSTART:20241103T060000
END:STANDARD
BEGIN:DAYLIGHT
TZOFFSETFROM:-0500
TZOFFSETTO:-0400
TZNAME:EDT
DTSTART:20250309T070000
END:DAYLIGHT
BEGIN:STANDARD
TZOFFSETFROM:-0400
TZOFFSETTO:-0500
TZNAME:EST
DTSTART:20251102T060000
END:STANDARD
BEGIN:DAYLIGHT
TZOFFSETFROM:-0500
TZOFFSETTO:-0400
TZNAME:EDT
DTSTART:20260308T070000
END:DAYLIGHT
BEGIN:STANDARD
TZOFFSETFROM:-0400
TZOFFSETTO:-0500
TZNAME:EST
DTSTART:20261101T060000
END:STANDARD
END:VTIMEZONE
BEGIN:VEVENT
DTSTART;TZID=America/New_York:20241102T060000
DTEND;TZID=America/New_York:20241102T120000
DTSTAMP:20260422T073934
CREATED:20241001T070144Z
LAST-MODIFIED:20241001T070144Z
UID:3518-1730527200-1730548800@mooresvillenow.com
SUMMARY:48th Annual Working Fingers Craft Show
DESCRIPTION:Come join us at the Charles Mack Citizen Center on Saturday\, November 2\, from 10 a.m. to 4 p.m. for a fun-filled day of holiday shopping at the 48th Annual Working Fingers Craft Show!\nThis beloved annual show brings together talented creators from near and far\, showcasing a wide array of unique handmade items. Discover treasures for every taste and interest\, from jewelry and home décor to clothing\, baked goods\, paintings\, lotions\, and more!\nDon’t miss out on this FREE event—it’s the perfect opportunity to find one-of-a-kind gifts and enjoy the holiday spirit!\n*Vendor Applications are Closed*\nMark your calendar: November 2\, 2024 | Charles Mack Citizen Center | 215 N. Main Street\, Mooresville. See you there!
URL:https://mooresvillenow.com/event/48th-annual-working-fingers-craft-show/
LOCATION:North Carolina
ATTACH;FMTTYPE=image/jpeg:https://mooresvillenow.com/wp-content/uploads/2024/10/451978448_1009932511133271_8124701089279443564_n.jpg
END:VEVENT
BEGIN:VEVENT
DTSTART;TZID=America/New_York:20241111T130000
DTEND;TZID=America/New_York:20241111T150000
DTSTAMP:20260422T073934
CREATED:20241106T163427Z
LAST-MODIFIED:20241106T163548Z
UID:4061-1731330000-1731337200@mooresvillenow.com
SUMMARY:Veterans Day Parade - Honoring Hometown Heroes
DESCRIPTION:Mooresville’s annual Veterans Day Parade is a highlight of the week. The community is invited to honor local veterans as the parade makes its way down Main Street. Main Street will be closed to traffic before and during the parade. To participate in the parade\, register at Mooresvillenc.gov/VeteransDay.
URL:https://mooresvillenow.com/event/veterans-day-parade-honoring-hometown-heroes/
LOCATION:North Carolina
ATTACH;FMTTYPE=image/jpeg:https://mooresvillenow.com/wp-content/uploads/2024/11/463433186_1080706677389187_1827983398656303258_n.jpg
END:VEVENT
BEGIN:VEVENT
DTSTART;TZID=America/New_York:20241114T170000
DTEND;TZID=America/New_York:20241114T200000
DTSTAMP:20260422T073934
CREATED:20241111T154651Z
LAST-MODIFIED:20241111T154651Z
UID:4152-1731603600-1731614400@mooresvillenow.com
SUMMARY:Downtown Mooresville - Shop the Block - Evening Shopping
DESCRIPTION:Downtown Mooresville business owners have a surprise for you!\nEvening shopping on the 2nd Thursdays*\, through December!\nParticipating businesses came together to offer evening shopping convenience\, ‘til 8pm on September 12\, October 10\, November 14 and December 12!\n .  .  .*check with individual businesses\nJoin us for this fun evening and don’t forget to fortify yourself and enjoy the tasty treats from our Downtown Mooresville food and beverage businesses already open. And\, there is Social Districting!\nANNA MACISAAC PHOTOGRAPHY | 125-5 N. Main Street | 704-918-5179\nCLIPPER’S FLOWERS | 360 N. Main Street | 704- 663-7673\nCOSMO GYPSY | 108 N. Broad Street | 347-843-5445\nEAST | 125 N. Main Street | N/A\nFOUR CORNERS FRAMING & GALLERY | 148 N. Main Street | 704-662-7154\nFRED & JUNE’S BOOKS | 248 N. Main Street | 980-389-4244\nTHE GARDEN ROOM | 162 N. Main Street | 704-213-9279\nTHE GINGERED FARMHOUSE | 166 N. Broad Street | 980-444-9151\nHAMPTON’S MEN’S | 138 N. Main Street | 704-230-4458\nJUELEYRE ARTISAN GALLERY & FINE GIFTS | 112 S. Main Street | 704-728-0460\nL.A. SKIN STUDIO | 174 N. Main Street | 704-564-1666\nNEW THINGS | 105 N. Main Street | 704-796-9857\nNORTH CAROLINA PROVISIONS COMPANY | 162 N. Broad Street\, Suite B | 704-664-0800\nROCK STAR RECORDS & CD’S | 127 N. Main Street | 704-680-2833\nSELL YOUR SOUL RECORDS | 124 S. Main Street | 732-841-3096\n704 HEMP CBD SHOP | 101 S. Broad Street | 704-746-9463\nSOUTHERN NOTIONS | 152 N. Main Street | 704-360-4317\nTHE VAULT BY COSMO GYPSY | 106 N. Broad Street | 347-843-5445
URL:https://mooresvillenow.com/event/downtown-mooresville-shop-the-block-evening-shopping/
LOCATION:North Carolina
ATTACH;FMTTYPE=image/jpeg:https://mooresvillenow.com/wp-content/uploads/2024/11/464493702_987195980119419_3825921677144634542_n.jpg
END:VEVENT
BEGIN:VEVENT
DTSTART;TZID=America/New_York:20241115T180000
DTEND;TZID=America/New_York:20241115T203000
DTSTAMP:20260422T073934
CREATED:20241114T223833Z
LAST-MODIFIED:20241114T223833Z
UID:4186-1731693600-1731702600@mooresvillenow.com
SUMMARY:South Fall Festival
DESCRIPTION:SOUTH FALL FESTIVAL & CULTURAL EXTRAVAGANZA \n\n\n\nFeaturing performances by African Children’s Choir and DandiLion Circus Acts. \nCrafts\, Games\, Demonstrations\, Raffle Baskets\, Cake Walk\, Food Trucks\, and More!!! \n\n\n\nAdmission is free! Gather your friends and family because there’s something for everyone to enjoy. \n\n\n\nWant extra tickets for the raffle baskets and cake walk? \nSouth is partnering with local community organizations to provide items for Christmas in backpacks for children in Marshall\, NC who were affected by Hurricane Helene. \nDonate one of the following items to receive free tickets for the raffle baskets and cake walk. Bring items to the Fall Festival and Cultural Extravaganza. \nWarm Clothing: winter cap\, gloves\, 2-3 pairs of socks\, and scarf. Canned Food: metal cans with a pop-top that doesn’t require a can opener. Recommended canned items include: Spaghettios\, vegetables\, & fruit. \nAge-Appropriate Toys: For example: toy cars\, doll\, Lego\, Slinky\, or stuffed animals.\nAge-Appropriate Games: For example: a card game\, puzzle\, jump rope\, sidewalk chalk\, or ball. \nToiletries: Hygiene items as toothbrush\, soap\, washcloth\, shampoo\, toothpaste\, deodorant\, and a brush/comb. Avoid “travel-size” toiletries\, but fit all of the items on a one-gallon Ziploc bag to prevent the items from leaking in the backpack.\nWrapped Candy: Avoid chocolate or peanut products. The chocolate melts and the peanuts have allergy risks.
URL:https://mooresvillenow.com/event/south-fall-festival/
LOCATION:North Carolina
ATTACH;FMTTYPE=application/pdf:https://mooresvillenow.com/wp-content/uploads/2024/11/Fall-Festival-and-Cultural-Extravaganza-1-1.pdf
END:VEVENT
BEGIN:VEVENT
DTSTART;TZID=America/New_York:20241116T040000
DTEND;TZID=America/New_York:20241116T090000
DTSTAMP:20260422T073934
CREATED:20241001T065322Z
LAST-MODIFIED:20241001T065322Z
UID:3506-1731729600-1731747600@mooresvillenow.com
SUMMARY:Lake City Christmas Bazaar
DESCRIPTION:If you’re interested in being a vendor email info@lakecitychurch.org or give us a call! For all those looking for the best place to do some Christmas shopping while supporting a good cause come check it out November 16th\, 9am-2pm! We’ll have vendors\, food\, photo ops\, live music\, etc. We’d love to have you!
URL:https://mooresvillenow.com/event/lake-city-christmas-bazaar/
LOCATION:North Carolina
ATTACH;FMTTYPE=image/jpeg:https://mooresvillenow.com/wp-content/uploads/2024/10/460347258_938434898327371_2164442583021120992_n.jpg
END:VEVENT
BEGIN:VEVENT
DTSTART;TZID=America/New_York:20241116T120000
DTEND;TZID=America/New_York:20241116T160000
DTSTAMP:20260422T073934
CREATED:20241021T052313Z
LAST-MODIFIED:20241021T052313Z
UID:3912-1731758400-1731772800@mooresvillenow.com
SUMMARY:Annual Tree Lighting at LangTree Lake Norman
DESCRIPTION:Please join us for our Annual Tree Lighting on Saturday\, November 16th from 5pm to 9pm (Lighting Ceremony at 7:30pm)\nFestivities include: Visit with SantaBounce HousesLive DJ Langtree Charter Academy BandFood & Beverage VendorsNorth Pole Post OfficeCraft VendorsFace Painting and more!
URL:https://mooresvillenow.com/event/annual-tree-lighting-at-langtree-lake-norman/
LOCATION:North Carolina
ATTACH;FMTTYPE=image/jpeg:https://mooresvillenow.com/wp-content/uploads/2024/10/463618099_1064337085702508_4644206202165898061_n.jpg
END:VEVENT
BEGIN:VEVENT
DTSTART;TZID=America/New_York:20241116T180000
DTEND;TZID=America/New_York:20241116T200000
DTSTAMP:20260422T073934
CREATED:20241111T152420Z
LAST-MODIFIED:20241111T152420Z
UID:4131-1731780000-1731787200@mooresvillenow.com
SUMMARY:Kannapolis Tree Lighting Ceremony
DESCRIPTION:Celebrate the start of the Christmas season in Kannapolis with the Annual Tree Lighting Ceremony on November 16\, 2024. Enjoy live music and entertainment.\n\nFireworks will immediately follow the Tree Lighting Ceremony.\n\nAdmission to the park and viewing of the lights and bears is free; tickets are required to ride the carousel and train. During the Tree Lighting Ceremony and every Friday and Saturday tickets may be purchased onsite at Village Park on a first come basis for the Winterland Express. Reserve your seat on the Winterland Express\, Sunday thru Thursday\, by purchasing tickets online at www.kannapolisnc.gov/Christmas. Walkup onsite tickets will be available if space allows.
URL:https://mooresvillenow.com/event/kannapolis-tree-lighting-ceremony/
LOCATION:North Carolina
ATTACH;FMTTYPE=image/jpeg:https://mooresvillenow.com/wp-content/uploads/2024/11/464521431_956112266547147_5127526954753019733_n.jpg
END:VEVENT
BEGIN:VEVENT
DTSTART;TZID=America/New_York:20241122T180000
DTEND;TZID=America/New_York:20250101T210000
DTSTAMP:20260422T073934
CREATED:20241111T145716Z
LAST-MODIFIED:20241111T145716Z
UID:4113-1732298400-1735765200@mooresvillenow.com
SUMMARY:Christmas Wonderland of Lights
DESCRIPTION:Join us at Zootastic Park for a spectacular drive-through experience and enjoy other fun activities for the kids! Meet Santa and a baby kangaroo for a photo opportunity. Admission is $10 for the drive-through experience or $15 to drive through lights and the safari trail. \nThe Christmas Wonderland of Lights begins on November 22nd. You can plan your visits on Sunday – Thursday\, 6PM – 9PM and Friday -Saturday 6PM – 10PM.
URL:https://mooresvillenow.com/event/christmas-wonderland-of-lights/
LOCATION:North Carolina
ATTACH;FMTTYPE=image/jpeg:https://mooresvillenow.com/wp-content/uploads/2024/11/maxresdefault.jpg
END:VEVENT
BEGIN:VEVENT
DTSTART;TZID=America/New_York:20241123T080000
DTEND;TZID=America/New_York:20250124T170000
DTSTAMP:20260422T073934
CREATED:20241111T152721Z
LAST-MODIFIED:20241111T152721Z
UID:4134-1732348800-1737738000@mooresvillenow.com
SUMMARY:Birkdale on Ice
DESCRIPTION:Saturday\, November 23rd through Friday\, January 24th\n\nTis’ the season to lace up your skates and glide into the holiday spirit at Birkdale on Ice!\n\nFor the third year\, Birkdale Village will have an ice skating rink and we can’t wait to lace up our skates with you. Guests will need to book ice skating reservations in advance to ensure a skating time slot. Walk-ups are also welcome\, but we cannot guarantee you will be able to skate at that time.\n\nTickets will be available soon! For details\, visit https://birkdalevillage.com/events/birkdale-on-ice.\n\nTis’ the season to lace up your skates and glide into the holiday spirit at Birkdale on Ice! \nFor the second year\, Birkdale Village will have an ice skating rink and we can’t wait to lace up our skates with you. Guests will need to book ice skating reservations in advance to ensure a skating time slot. Walk-ups are also welcome\, but we cannot guarantee you will be able to skate at that time. \nFor Frequently Asked Questions\, click here. \nGET YOUR TICKETS HERE \nTickets are for a 75 minute skate session. \nBirkdale on Ice Punch Card: Plan on skating more than once this season? Punch cards can be purchased for $120 and come with 10 punches that can be used for both children and adult tickets. Punch cards can only be purchased at the skate shack located across from Bad Daddy’s Burger Bar. For questions regarding the punch cards\, please reach out to birkdale@icerinkevents.com. Punch cards cannot be replaced if lost. \nPlease note: all ticket sales are final\, no refunds or transfers. We highly recommend you check the local forecast before purchasing your tickets as ice conditions may vary due to weather. Please call Concierge at 704-817-2400 for further details!
URL:https://mooresvillenow.com/event/birkdale-on-ice/
LOCATION:North Carolina
ATTACH;FMTTYPE=image/jpeg:https://mooresvillenow.com/wp-content/uploads/2024/11/462914782_931044555727608_7870802592934957122_n.jpg
END:VEVENT
BEGIN:VEVENT
DTSTART;TZID=America/New_York:20241123T140000
DTEND;TZID=America/New_York:20241123T190000
DTSTAMP:20260422T073934
CREATED:20241111T153404Z
LAST-MODIFIED:20241111T153404Z
UID:4140-1732370400-1732388400@mooresvillenow.com
SUMMARY:The Lighting of Birkdale Village
DESCRIPTION:Get in the holiday spirit with festive music\, holiday performances and activities for the whole family. From Santa’s arrival to the magical tree lighting\, there’s something fun for everyone! Enjoy face painting\, balloon twisters\, dance performances\, live DJ\, ice skating\, a biergarten\, the parade\, and more.  \nFor details and schedule\, visit https://birkdalevillage.com/…/the-lighting-of-birkdale….
URL:https://mooresvillenow.com/event/the-lighting-of-birkdale-village/
LOCATION:North Carolina
ATTACH;FMTTYPE=image/jpeg:https://mooresvillenow.com/wp-content/uploads/2024/11/462707349_931041739061223_9137393877986655112_n.jpg
END:VEVENT
BEGIN:VEVENT
DTSTART;TZID=America/New_York:20241123T143000
DTEND;TZID=America/New_York:20241123T163000
DTSTAMP:20260422T073934
CREATED:20241111T153029Z
LAST-MODIFIED:20241111T153029Z
UID:4137-1732372200-1732379400@mooresvillenow.com
SUMMARY:96th Concord Christmas Parade
DESCRIPTION:The annual Concord Christmas Parade\, presented by TrueCare Pharmacy\, is one of the oldest and continuously running Christmas parades in North Carolina!\n\nFor more information and to register to be in this years parade\, visit concordnc.gov/christmas\n\nPhoto courtesy of Michael A. Anderson Photography
URL:https://mooresvillenow.com/event/96th-concord-christmas-parade/
LOCATION:North Carolina
END:VEVENT
BEGIN:VEVENT
DTSTART;TZID=America/New_York:20241123T180000
DTEND;TZID=America/New_York:20241123T220000
DTSTAMP:20260422T073934
CREATED:20241111T151145Z
LAST-MODIFIED:20241111T151145Z
UID:4122-1732384800-1732399200@mooresvillenow.com
SUMMARY:Kannapolis Celebration of Lights
DESCRIPTION:Open 6-9 p.m. Sundays thru Thursdays; 6-10 p.m. Fridays and Saturdays. (closed Thanksgiving Day\, Christmas Eve and Christmas Day)\n\nCome to Village Park and enjoy all the beautiful lights and displays in celebration of the holidays. Bring your wish list for your visit with Santa – you are welcome to take your photo with him at no charge. Other activities include making a holiday craft\, enjoying smore’s around the fire pit and much more. Local craft and artisans will be on hand on the weekends so come prepared to do your Christmas shopping. Food trucks will have food and drinks for sale.\n\nMaestro Leonard Bearstein of the famed Leonard Bearstein Symphony Orchestra is back this year\, spreading his holiday magic in Kannapolis. The 18 animatronic bears will delight children and adults alike with their witty banter\, inspiring instrumental pieces\, and traditional favorite holiday songs! Visit the Leonard Bearstein Symphony Orchestra in the Village Park Multi-Purpose Room throughout the Celebration of Lights.\n\nAdults and children are welcome to ride the Winterland Express\, a g-24 scale replica CP Huntington engine\, and count down the 12 Days of Christmas as you view unique holiday light displays. Manufactured in Italy\, the Village Park Double Decker Carousel features 1\,800 lights\, Brazilian oak decking\, and charming hand painted Venetian murals that you can ride as you get into the spirit of the holidays.\n\nAdmission to the park and viewing of the lights and bears is free; tickets are required to ride the carousel and train. Purchase carousel tickets onsite at Village Park. They will be available on a first come basis each evening.\n\nReserve your seat on the Winterland Express\, Sunday thru Thursday\, by purchasing a ticket online at www.kannapolisnc.gov/Christmas. Walkup onsite tickets will be available if space allows. Fridays and Saturday tickets may be purchased onsite at Village Park on a first come basis.\n\nThe park is located at 700 West C Street in Kannapolis.
URL:https://mooresvillenow.com/event/kannapolis-celebration-of-lights/
LOCATION:North Carolina
ATTACH;FMTTYPE=image/jpeg:https://mooresvillenow.com/wp-content/uploads/2024/11/464557761_956133556545018_3000901547875410629_n.jpg
END:VEVENT
BEGIN:VEVENT
DTSTART;TZID=America/New_York:20241126T100000
DTEND;TZID=America/New_York:20241126T120000
DTSTAMP:20260422T073934
CREATED:20241021T051312Z
LAST-MODIFIED:20241021T051724Z
UID:3907-1732615200-1732622400@mooresvillenow.com
SUMMARY:The Mooresville Christmas Parade  2024
DESCRIPTION:The 80th Annual Mooresville Christmas Parade will be held on Tuesday November 26\, 2024 at 3:00pm along Main Street in Downtown Mooresville.
URL:https://mooresvillenow.com/event/the-mooresville-christmas-parade-2024/
LOCATION:North Carolina
ATTACH;FMTTYPE=image/png:https://mooresvillenow.com/wp-content/uploads/2024/10/Screenshot-2024-10-20-at-9.10.57-PM.png
END:VEVENT
BEGIN:VEVENT
DTSTART;TZID=America/New_York:20241127T173000
DTEND;TZID=America/New_York:20241127T193000
DTSTAMP:20260422T073934
CREATED:20241111T153636Z
LAST-MODIFIED:20241111T153636Z
UID:4143-1732728600-1732735800@mooresvillenow.com
SUMMARY:2024 Novant Health Thanksgiving Eve Parade
DESCRIPTION:The Novant Health Thanksgiving Eve Parade returns to light up the night on Tryon Street once again this year.\n\nThe parade will step off on Tryon St. on Thanksgiving Eve\, Wednesday\, November 27th at 5:30pm\n\nThe Parade will feature local\, regional\, and national talent and performers\, your favorite floats\, larger-than-life balloons\, marching bands\, and dance units.\n\nThe Novant Health Thanksgiving Eve Parade is a free event open to the public. VIP tickets are available for purchase that will reserve a seat in a designated VIP area along the parade route.\n\nWe are looking for volunteers to walk as costumed cast members in the parade\, handle the larger-than-life balloons or as parade marshals.\n\nTo sign up as a volunteer\, or for more information about the parade\, visit our website at www.novanthealththanksgivingparade.com
URL:https://mooresvillenow.com/event/2024-novant-health-thanksgiving-eve-parade/
LOCATION:North Carolina
ATTACH;FMTTYPE=image/jpeg:https://mooresvillenow.com/wp-content/uploads/2024/11/465059330_959591042878083_2382380611209104092_n.jpg
END:VEVENT
END:VCALENDAR