BEGIN:VCALENDAR
VERSION:2.0
PRODID:-//Mooresville Now - ECPv6.15.20//NONSGML v1.0//EN
CALSCALE:GREGORIAN
METHOD:PUBLISH
X-WR-CALNAME:Mooresville Now
X-ORIGINAL-URL:https://mooresvillenow.com
X-WR-CALDESC:Events for Mooresville Now
REFRESH-INTERVAL;VALUE=DURATION:PT1H
X-Robots-Tag:noindex
X-PUBLISHED-TTL:PT1H
BEGIN:VTIMEZONE
TZID:America/New_York
BEGIN:DAYLIGHT
TZOFFSETFROM:-0500
TZOFFSETTO:-0400
TZNAME:EDT
DTSTART:20230312T070000
END:DAYLIGHT
BEGIN:STANDARD
TZOFFSETFROM:-0400
TZOFFSETTO:-0500
TZNAME:EST
DTSTART:20231105T060000
END:STANDARD
BEGIN:DAYLIGHT
TZOFFSETFROM:-0500
TZOFFSETTO:-0400
TZNAME:EDT
DTSTART:20240310T070000
END:DAYLIGHT
BEGIN:STANDARD
TZOFFSETFROM:-0400
TZOFFSETTO:-0500
TZNAME:EST
DTSTART:20241103T060000
END:STANDARD
BEGIN:DAYLIGHT
TZOFFSETFROM:-0500
TZOFFSETTO:-0400
TZNAME:EDT
DTSTART:20250309T070000
END:DAYLIGHT
BEGIN:STANDARD
TZOFFSETFROM:-0400
TZOFFSETTO:-0500
TZNAME:EST
DTSTART:20251102T060000
END:STANDARD
END:VTIMEZONE
BEGIN:VEVENT
DTSTART;TZID=America/New_York:20241001T130000
DTEND;TZID=America/New_York:20241001T163000
DTSTAMP:20260422T144020
CREATED:20241001T071149Z
LAST-MODIFIED:20241001T071149Z
UID:3526-1727787600-1727800200@mooresvillenow.com
SUMMARY:Downtown Mooresville Festival of Food Trucks
DESCRIPTION:Join us in for the October Downtown Mooresville Festival of Food Trucks. Offering 16 trucks from around the region and live music by Coddle Creek!\n\nIt gets crowded so bring a chair\, bring your crew\, hang out in the street\, stroll\, shop & enjoy gourmet fare and our Downtown Social District. Always delicious! 5-8:30pm. Trucks will be located on both Broad St. and Main Street.
URL:https://mooresvillenow.com/event/downtown-mooresville-festival-of-food-trucks/
LOCATION:Downtown Mooresville
ATTACH;FMTTYPE=image/jpeg:https://mooresvillenow.com/wp-content/uploads/2024/10/458384216_1020204386776276_2988130790222770140_n.jpg
END:VEVENT
END:VCALENDAR