BEGIN:VCALENDAR
VERSION:2.0
PRODID:-//Mooresville Now - ECPv6.15.20//NONSGML v1.0//EN
CALSCALE:GREGORIAN
METHOD:PUBLISH
X-ORIGINAL-URL:https://mooresvillenow.com
X-WR-CALDESC:Events for Mooresville Now
REFRESH-INTERVAL;VALUE=DURATION:PT1H
X-Robots-Tag:noindex
X-PUBLISHED-TTL:PT1H
BEGIN:VTIMEZONE
TZID:America/New_York
BEGIN:DAYLIGHT
TZOFFSETFROM:-0500
TZOFFSETTO:-0400
TZNAME:EDT
DTSTART:20230312T070000
END:DAYLIGHT
BEGIN:STANDARD
TZOFFSETFROM:-0400
TZOFFSETTO:-0500
TZNAME:EST
DTSTART:20231105T060000
END:STANDARD
BEGIN:DAYLIGHT
TZOFFSETFROM:-0500
TZOFFSETTO:-0400
TZNAME:EDT
DTSTART:20240310T070000
END:DAYLIGHT
BEGIN:STANDARD
TZOFFSETFROM:-0400
TZOFFSETTO:-0500
TZNAME:EST
DTSTART:20241103T060000
END:STANDARD
BEGIN:DAYLIGHT
TZOFFSETFROM:-0500
TZOFFSETTO:-0400
TZNAME:EDT
DTSTART:20250309T070000
END:DAYLIGHT
BEGIN:STANDARD
TZOFFSETFROM:-0400
TZOFFSETTO:-0500
TZNAME:EST
DTSTART:20251102T060000
END:STANDARD
END:VTIMEZONE
BEGIN:VEVENT
DTSTART;TZID=America/New_York:20241222T120000
DTEND;TZID=America/New_York:20241222T170000
DTSTAMP:20260421T111540
CREATED:20241215T033154Z
LAST-MODIFIED:20241215T033154Z
UID:4451-1734868800-1734886800@mooresvillenow.com
SUMMARY:CCC Holiday Rave (Really Awesome Vendor Event) at the Wobbly Butt in Mooresville
DESCRIPTION:Come to the CCC Holiday Rave (Really Awesome Vendor Event) at the Wobbly Butt in Mooresville\, Victory Lanes The vent will be inside The Wobbly Butt with 40 tables of local vendors selling great stuff for holiday gifts. Restaurant and Bar will be open and available as well as bowling lanes and arcade. Sunday DEC 22nd 12-5! \nVictory Lanes is a 40 Lane Bowling & Entertainment Center. Arcade\, Billiards\, Pro Shop\, Snack Bar\, Bar & Restaurant. Minatare Golf Coming Soon!Extraordinary customer service. Incredible fun! Comedy Zone EVERY Wed Night in the Wobbly Butt Taproom & Eatery.
URL:https://mooresvillenow.com/event/ccc-holiday-rave-really-awesome-vendor-event-at-the-wobbly-butt-in-mooresville/
LOCATION:Victory Lanes\, 125 Morlake Drivve\, Mooresville\, 28117
CATEGORIES:Holiday Event
ATTACH;FMTTYPE=image/jpeg:https://mooresvillenow.com/wp-content/uploads/2024/12/468618620_10235627987418993_6781841743252495971_n.jpg
END:VEVENT
BEGIN:VEVENT
DTSTART;TZID=America/New_York:20241221T210000
DTEND;TZID=America/New_York:20241222T110000
DTSTAMP:20260421T111540
CREATED:20241215T034130Z
LAST-MODIFIED:20241215T034130Z
UID:4456-1734814800-1734865200@mooresvillenow.com
SUMMARY:Annual Elf Run & Tot Trot
DESCRIPTION:Merry Christmas To All\n\nBring your best Christmas costume and join us for the fifth annual Mooresville Elf Run and Tot Trot. Our goal is to fill Santa’s sleigh with toys for Tots! Please bring an unwrapped toy to be donated to the Toys For Tots. Every year\, we haul in so many toys that our community makes us proud. Let’s do it again! Last year\, we needed a box truck to get them all to the Toys for Tots. You will be guided by elves along your run and when you return\, there will be hot chocolate for everyone. The best adult costume will win a prize. The best kid’s costume will win a prize. It is going to be loads of fun so\, come out and bring your friends and family for a morning of getting into the Christmas spirit!!\n\nWhat you get when you sign up for the Elf Run 5k:\nA really cool Elf Run Sweatshirt (provided you sign up before the cutoff DEC. 10TH). People LOVE the hoodies every year. Sign up early!\nYou get bells to attach to your shoes so you can jingle as you run.\n\nWhat kids get when they sign up for the Tot Trot:\nYour little one gets to sprint to the finish line on a safe\, closed course. We do recommend that kids 6 and under run the tot trot. At the end\, he/she will get a hand painted ornament to take home. (They MUST register!) This is not an event for adults. You will be able to see your little ones the entire time. Adults\, please do not register yourself for this event.\n\nThe Tot Trot is $5.\nSo come get into the holiday spirit with us and don’t forget your unwrapped toy for Toys For Tots!\nPlease Note: We do not offer refunds\, transfers\, or deferrals. Please do not email us asking.\nWALKERS ARE WELCOME!!\nIf you are interested in sponsoring this event\, please contact whitney@queencitytiming.com\nRace Contact InfoIf you have any questions about this race\, please contact the race director at whitney@queencitytiming.com
URL:https://mooresvillenow.com/event/annual-elf-run-tot-trot/
LOCATION:Ghostface Brewing\, 215 S. Broad Street\, Mooresville\, NC\, 28115\, United States
CATEGORIES:Holiday Event
ATTACH;FMTTYPE=image/jpeg:https://mooresvillenow.com/wp-content/uploads/2024/12/468602267_991306063015164_466933165110085620_n.jpg
END:VEVENT
BEGIN:VEVENT
DTSTART;TZID=America/New_York:20241220T183000
DTEND;TZID=America/New_York:20241220T193000
DTSTAMP:20260421T111540
CREATED:20241215T041303Z
LAST-MODIFIED:20241215T041303Z
UID:4483-1734719400-1734723000@mooresvillenow.com
SUMMARY:2nd Annual Christmas Light Cruise
DESCRIPTION:Join the fun and holiday spirit! Cruise starts in downtown Mooresville behind Epic and will pass through some beautifully decorated neighborhoods.\n\n146 E McLelland Ave\, Mooresville\, NC 28115\nBring your favorite classic ride and loved ones to check out the local lights.\n\nAll proceeds from the event will benefit local homeless and less fortunate with warm clothing\, food\, and personal care items needed through the cold season.\n\nDonations can be made in person or venmo @CaleWolfe.\n\nEvent by Cale Wolfe. DM Cale with any questions. We will leave the parking lot around 6:30pm so please come a few minutes early.\nSee yall there!
URL:https://mooresvillenow.com/event/2nd-annual-christmas-light-cruise/
CATEGORIES:Holiday Event
ATTACH;FMTTYPE=image/jpeg:https://mooresvillenow.com/wp-content/uploads/2024/12/469943601_10170435839930106_36882047901229471_n.jpg
END:VEVENT
BEGIN:VEVENT
DTSTART;TZID=America/New_York:20241219T170000
DTEND;TZID=America/New_York:20241219T193000
DTSTAMP:20260421T111540
CREATED:20241215T040815Z
LAST-MODIFIED:20241215T040815Z
UID:4480-1734627600-1734636600@mooresvillenow.com
SUMMARY:Holiday Shopping Pop-Up with Sweet Be's Farm & Design
DESCRIPTION:Fred & Junes Books welcomes visiting popup vendor Sweet Be’s Farm & Design on Thursday December 19th from 5-7:30pm with her variety of handmade macrame jewelry\, artisan jams\, honey\, crystals & Kantha scarves\n\nExplore a collection of lovingly crafted items: unique macrame jewelry\, homemade jams and honey products\, beautiful crystals\, and handmade Kantha scarves. Perfect for gifting or personal indulgence\, each item is crafted with care and quality. All products are made with sustainable materials\, offering a perfect blend of creativity and nature.\nMake holiday shopping easy with these lovingly handmade goodies from Sweet Be’s Farm & Design!
URL:https://mooresvillenow.com/event/holiday-shopping-pop-up-with-sweet-bes-farm-design/
LOCATION:Fred & June’s Books\, 248 N. Main Street\, Mooresville\, 28115
CATEGORIES:Holiday Event
ATTACH;FMTTYPE=image/jpeg:https://mooresvillenow.com/wp-content/uploads/2024/12/470039255_438779025975194_9211268986695625744_n.jpg
END:VEVENT
BEGIN:VEVENT
DTSTART;TZID=America/New_York:20241215T120000
DTEND;TZID=America/New_York:20241215T153000
DTSTAMP:20260421T111540
CREATED:20241215T040105Z
LAST-MODIFIED:20241215T040105Z
UID:4471-1734264000-1734276600@mooresvillenow.com
SUMMARY:Santa is Coming to Sweet Grass
DESCRIPTION:Sweet Grass is pleased to announce we will be hosting Santa for FREE pictures with your children\, loved ones\, pets\, Family. We are honored to be hosting this treasured Event for our 10th year! Bring your camera/ phone and get a beautiful picture with Santa. \nThis event begins at noon and lasts until 3:45pm on December Sundays 8th\, 15th\, and 22nd. First come\, first serve. Sweet Grass will be open for business these days from 11am -t come\, first serve. Sweet Grass will be open for business these days from 11am – 4pm. We will also have a food or treat truck onsite for purchases. Merry Christmas from all of us at Sweet Grass.
URL:https://mooresvillenow.com/event/santa-is-coming-to-sweet-grass/
LOCATION:Sweet Grass\, 146 H Mooresville Commons Way\, 28117
CATEGORIES:Holiday Event
ATTACH;FMTTYPE=image/jpeg:https://mooresvillenow.com/wp-content/uploads/2024/12/468280395_122122648724550797_5504885002583818996_n.jpg
END:VEVENT
BEGIN:VEVENT
DTSTART;TZID=America/New_York:20241215T110000
DTEND;TZID=America/New_York:20241215T160000
DTSTAMP:20260421T111540
CREATED:20241215T031843Z
LAST-MODIFIED:20241215T031843Z
UID:4447-1734260400-1734278400@mooresvillenow.com
SUMMARY:Santa Photos and Kids Workshops
DESCRIPTION:Bring the kids to meet Santa for a professional photo and enjoy 4 fun craft stations at the Holiday MEGA Market! Photos and all craft stations are included with the one-time registration fee of just $25 per child. Crafts will include sugar cookie decorating\, reindeer food making\, and two Christmas themed art-style crafts.\n\nAfter seeing Santa\, enjoy free admission to the rest of the Holiday MEGA Market — a perfect chance for some last minute holiday shopping from 75+ local vendors\, and enjoy food trucks and a live DJ.\n\nRegistration for Santa photos and workshops is required and limited. We hope to see you all there!\n\nVisit www.megamarketnc.com for more info or to register.\n***DO NOT FALL FOR SCAMMERS. We will never ask you to email us or message us. You must fill out a registration form on our website and you will then receive an invoice to your email. There are NO OTHER ways to register.
URL:https://mooresvillenow.com/event/santa-photos-and-kids-workshops/
LOCATION:Charles Mack Citizen Center\, 215 N. Main Street\, Mooresville\, NC\, 28115\, United States
CATEGORIES:Holiday Event
ATTACH;FMTTYPE=image/jpeg:https://mooresvillenow.com/wp-content/uploads/2024/12/463770854_458082353957715_3416181300734412700_n.jpg
END:VEVENT
BEGIN:VEVENT
DTSTART;TZID=America/New_York:20241215T060000
DTEND;TZID=America/New_York:20241215T110000
DTSTAMP:20260421T111540
CREATED:20241001T064204Z
LAST-MODIFIED:20241001T064204Z
UID:3499-1734242400-1734260400@mooresvillenow.com
SUMMARY:Holiday MEGA Market with Santa!
DESCRIPTION:Join us for a festive day of last-minute holiday shopping and Santa meet-and-greets!\nThe Holiday MEGA Marketis coming to Downtown Mooresville on Sunday\, December 15th\, from 11:00 AM to 4:00 PM. Explore over 75 local vendors\, enjoy lively music from the amazing Park Place Entertainment DJ\, snap photos with Santa\, and bring the kids for fun holiday crafts and workshop stations (registration required)!\n\nLocation: The Charles Mack Citizen Center in Downtown Mooresville\n\nFor more information or to register for the Santa Workshop experience\, visit megamarketnc.com.\n\nHosted by Local Life Magazine: Our mission is to connect the community with the local businesses that serve them. Follow us on Instagram at @locallifemagazine and @megamarket_nc.\n\nWe can’t wait to celebrate the holidays with you!
URL:https://mooresvillenow.com/event/holiday-mega-market-with-santa/
LOCATION:Charles Mack Citizen Center\, 215 N. Main Street\, Mooresville\, NC\, 28115\, United States
CATEGORIES:Holiday Event
ATTACH;FMTTYPE=image/jpeg:https://mooresvillenow.com/wp-content/uploads/2024/10/457523636_422141394218478_5570898990001446313_n.jpg
END:VEVENT
END:VCALENDAR