BEGIN:VCALENDAR
VERSION:2.0
PRODID:-//Mooresville Now - ECPv6.15.20//NONSGML v1.0//EN
CALSCALE:GREGORIAN
METHOD:PUBLISH
X-ORIGINAL-URL:https://mooresvillenow.com
X-WR-CALDESC:Events for Mooresville Now
REFRESH-INTERVAL;VALUE=DURATION:PT1H
X-Robots-Tag:noindex
X-PUBLISHED-TTL:PT1H
BEGIN:VTIMEZONE
TZID:America/New_York
BEGIN:DAYLIGHT
TZOFFSETFROM:-0500
TZOFFSETTO:-0400
TZNAME:EDT
DTSTART:20240310T070000
END:DAYLIGHT
BEGIN:STANDARD
TZOFFSETFROM:-0400
TZOFFSETTO:-0500
TZNAME:EST
DTSTART:20241103T060000
END:STANDARD
BEGIN:DAYLIGHT
TZOFFSETFROM:-0500
TZOFFSETTO:-0400
TZNAME:EDT
DTSTART:20250309T070000
END:DAYLIGHT
BEGIN:STANDARD
TZOFFSETFROM:-0400
TZOFFSETTO:-0500
TZNAME:EST
DTSTART:20251102T060000
END:STANDARD
BEGIN:DAYLIGHT
TZOFFSETFROM:-0500
TZOFFSETTO:-0400
TZNAME:EDT
DTSTART:20260308T070000
END:DAYLIGHT
BEGIN:STANDARD
TZOFFSETFROM:-0400
TZOFFSETTO:-0500
TZNAME:EST
DTSTART:20261101T060000
END:STANDARD
END:VTIMEZONE
BEGIN:VEVENT
DTSTART;TZID=America/New_York:20250120T173000
DTEND;TZID=America/New_York:20250120T193000
DTSTAMP:20260424T060805
CREATED:20250103T212334Z
LAST-MODIFIED:20250103T212334Z
UID:4662-1737394200-1737401400@mooresvillenow.com
SUMMARY:Girl Scouts Chill Out Challenge
DESCRIPTION:Dive into the excitement at the Girl Scout Polar Plunge!\nHere’s the scoop:\n• Want to take the plunge? You’ll need to ace a swim test first! But if you’re not quite ready to channel your inner mermaid\, just rock a Coast Guard-approved vest and bring a parental lifeguard along!\n• Not a Girl Scout? No problem! Swing by to discover the awesomeness of Girl Scouts at this totally free bash!\n• Yep\, you read that right-NO fee to participate in the event!\n• Where’s the polar plunge zone? At the fabulous Statesville Family YMCA!\nCan’t make the event? Visit www.BeAGirlScout.org \nWe do ask families to register here for capacity information only:  https://docs.google.com/forms/d/1pOVJ4iDEt-kyLh_sFqeciATE8_ciiM9nxArBl2o5Miw/edit
URL:https://mooresvillenow.com/event/girl-scouts-chill-out-challenge/
LOCATION:Statesville Family YMCA\, 828 Wesley Drive\, Statesville\, NC
CATEGORIES:Community Event
ATTACH;FMTTYPE=image/png:https://mooresvillenow.com/wp-content/uploads/2025/01/Screenshot-2025-01-03-at-4.14.42-PM.png
END:VEVENT
END:VCALENDAR