BEGIN:VCALENDAR
VERSION:2.0
PRODID:-//Mooresville Now - ECPv6.15.20//NONSGML v1.0//EN
CALSCALE:GREGORIAN
METHOD:PUBLISH
X-WR-CALNAME:Mooresville Now
X-ORIGINAL-URL:https://mooresvillenow.com
X-WR-CALDESC:Events for Mooresville Now
REFRESH-INTERVAL;VALUE=DURATION:PT1H
X-Robots-Tag:noindex
X-PUBLISHED-TTL:PT1H
BEGIN:VTIMEZONE
TZID:America/New_York
BEGIN:DAYLIGHT
TZOFFSETFROM:-0500
TZOFFSETTO:-0400
TZNAME:EDT
DTSTART:20230312T070000
END:DAYLIGHT
BEGIN:STANDARD
TZOFFSETFROM:-0400
TZOFFSETTO:-0500
TZNAME:EST
DTSTART:20231105T060000
END:STANDARD
BEGIN:DAYLIGHT
TZOFFSETFROM:-0500
TZOFFSETTO:-0400
TZNAME:EDT
DTSTART:20240310T070000
END:DAYLIGHT
BEGIN:STANDARD
TZOFFSETFROM:-0400
TZOFFSETTO:-0500
TZNAME:EST
DTSTART:20241103T060000
END:STANDARD
BEGIN:DAYLIGHT
TZOFFSETFROM:-0500
TZOFFSETTO:-0400
TZNAME:EDT
DTSTART:20250309T070000
END:DAYLIGHT
BEGIN:STANDARD
TZOFFSETFROM:-0400
TZOFFSETTO:-0500
TZNAME:EST
DTSTART:20251102T060000
END:STANDARD
END:VTIMEZONE
BEGIN:VEVENT
DTSTART;TZID=America/New_York:20241026T060000
DTEND;TZID=America/New_York:20241026T070000
DTSTAMP:20260424T094848
CREATED:20241022T171901Z
LAST-MODIFIED:20241022T171901Z
UID:3932-1729922400-1729926000@mooresvillenow.com
SUMMARY:Let's Discover: STEM Fun for All Ages!
DESCRIPTION:Patrons of all ages are invited to join us for Let’s Discover on October 26 at 10 a.m. at both the Main Library and the West Branch! This is an interactive STEM program\, no experience required! We have a variety of engaging activities that you can run\, build\, and create all at your own pace. Main Library | 304 South Main St\, Mooresville\, NC 28115West Branch | 614 Brawley School Rd\, Mooresville\, NC 28117
URL:https://mooresvillenow.com/event/lets-discover-stem-fun-for-all-ages/
CATEGORIES:Community Event
ATTACH;FMTTYPE=image/jpeg:https://mooresvillenow.com/wp-content/uploads/2024/10/463608089_939838874855755_6969429345928910483_n.jpg
END:VEVENT
END:VCALENDAR