BEGIN:VCALENDAR
VERSION:2.0
PRODID:-//Mooresville Now - ECPv6.15.20//NONSGML v1.0//EN
CALSCALE:GREGORIAN
METHOD:PUBLISH
X-ORIGINAL-URL:https://mooresvillenow.com
X-WR-CALDESC:Events for Mooresville Now
REFRESH-INTERVAL;VALUE=DURATION:PT1H
X-Robots-Tag:noindex
X-PUBLISHED-TTL:PT1H
BEGIN:VTIMEZONE
TZID:America/New_York
BEGIN:DAYLIGHT
TZOFFSETFROM:-0500
TZOFFSETTO:-0400
TZNAME:EDT
DTSTART:20230312T070000
END:DAYLIGHT
BEGIN:STANDARD
TZOFFSETFROM:-0400
TZOFFSETTO:-0500
TZNAME:EST
DTSTART:20231105T060000
END:STANDARD
BEGIN:DAYLIGHT
TZOFFSETFROM:-0500
TZOFFSETTO:-0400
TZNAME:EDT
DTSTART:20240310T070000
END:DAYLIGHT
BEGIN:STANDARD
TZOFFSETFROM:-0400
TZOFFSETTO:-0500
TZNAME:EST
DTSTART:20241103T060000
END:STANDARD
BEGIN:DAYLIGHT
TZOFFSETFROM:-0500
TZOFFSETTO:-0400
TZNAME:EDT
DTSTART:20250309T070000
END:DAYLIGHT
BEGIN:STANDARD
TZOFFSETFROM:-0400
TZOFFSETTO:-0500
TZNAME:EST
DTSTART:20251102T060000
END:STANDARD
BEGIN:DAYLIGHT
TZOFFSETFROM:-0500
TZOFFSETTO:-0400
TZNAME:EDT
DTSTART:20260308T070000
END:DAYLIGHT
BEGIN:STANDARD
TZOFFSETFROM:-0400
TZOFFSETTO:-0500
TZNAME:EST
DTSTART:20261101T060000
END:STANDARD
END:VTIMEZONE
BEGIN:VEVENT
DTSTART;TZID=America/New_York:20241122T180000
DTEND;TZID=America/New_York:20250101T210000
DTSTAMP:20260422T073803
CREATED:20241111T145716Z
LAST-MODIFIED:20241111T145716Z
UID:4113-1732298400-1735765200@mooresvillenow.com
SUMMARY:Christmas Wonderland of Lights
DESCRIPTION:Join us at Zootastic Park for a spectacular drive-through experience and enjoy other fun activities for the kids! Meet Santa and a baby kangaroo for a photo opportunity. Admission is $10 for the drive-through experience or $15 to drive through lights and the safari trail. \nThe Christmas Wonderland of Lights begins on November 22nd. You can plan your visits on Sunday – Thursday\, 6PM – 9PM and Friday -Saturday 6PM – 10PM.
URL:https://mooresvillenow.com/event/christmas-wonderland-of-lights/
LOCATION:North Carolina
ATTACH;FMTTYPE=image/jpeg:https://mooresvillenow.com/wp-content/uploads/2024/11/maxresdefault.jpg
END:VEVENT
BEGIN:VEVENT
DTSTART;TZID=America/New_York:20241123T080000
DTEND;TZID=America/New_York:20250124T170000
DTSTAMP:20260422T073803
CREATED:20241111T152721Z
LAST-MODIFIED:20241111T152721Z
UID:4134-1732348800-1737738000@mooresvillenow.com
SUMMARY:Birkdale on Ice
DESCRIPTION:Saturday\, November 23rd through Friday\, January 24th\n\nTis’ the season to lace up your skates and glide into the holiday spirit at Birkdale on Ice!\n\nFor the third year\, Birkdale Village will have an ice skating rink and we can’t wait to lace up our skates with you. Guests will need to book ice skating reservations in advance to ensure a skating time slot. Walk-ups are also welcome\, but we cannot guarantee you will be able to skate at that time.\n\nTickets will be available soon! For details\, visit https://birkdalevillage.com/events/birkdale-on-ice.\n\nTis’ the season to lace up your skates and glide into the holiday spirit at Birkdale on Ice! \nFor the second year\, Birkdale Village will have an ice skating rink and we can’t wait to lace up our skates with you. Guests will need to book ice skating reservations in advance to ensure a skating time slot. Walk-ups are also welcome\, but we cannot guarantee you will be able to skate at that time. \nFor Frequently Asked Questions\, click here. \nGET YOUR TICKETS HERE \nTickets are for a 75 minute skate session. \nBirkdale on Ice Punch Card: Plan on skating more than once this season? Punch cards can be purchased for $120 and come with 10 punches that can be used for both children and adult tickets. Punch cards can only be purchased at the skate shack located across from Bad Daddy’s Burger Bar. For questions regarding the punch cards\, please reach out to birkdale@icerinkevents.com. Punch cards cannot be replaced if lost. \nPlease note: all ticket sales are final\, no refunds or transfers. We highly recommend you check the local forecast before purchasing your tickets as ice conditions may vary due to weather. Please call Concierge at 704-817-2400 for further details!
URL:https://mooresvillenow.com/event/birkdale-on-ice/
LOCATION:North Carolina
ATTACH;FMTTYPE=image/jpeg:https://mooresvillenow.com/wp-content/uploads/2024/11/462914782_931044555727608_7870802592934957122_n.jpg
END:VEVENT
BEGIN:VEVENT
DTSTART;TZID=America/New_York:20241213T170000
DTEND;TZID=America/New_York:20241213T210000
DTSTAMP:20260422T073803
CREATED:20241111T144117Z
LAST-MODIFIED:20241111T144117Z
UID:4107-1734109200-1734123600@mooresvillenow.com
SUMMARY:A Classic Christmas in Mooresville
DESCRIPTION:Embrace the magic of the season at A Classic Christmas in Mooresville on Friday\, December 13\, 2024\, from 5-9 p.m. in the heart of Downtown Mooresville. Immerse yourself in the holiday spirit as the streets come alive with local artisans and Christmas lights.\n\nCreate memories as you enjoy live entertainment\, shopping at Downtown businesses and traditional holiday activities such as ice skating\, horse-drawn wagon rides\, Santa visits\, a carousel\, train rides\, Christmas photo opportunities\, and carolers.\n\nEnjoy a variety of food vendors\, warm beverages\, and sweet treats as you get in the holiday spirit. A Classic Christmas in Mooresville promises a nostalgic and heartwarming experience for the whole family.
URL:https://mooresvillenow.com/event/a-classic-christmas-in-mooresville/
LOCATION:North Carolina
ATTACH;FMTTYPE=image/jpeg:https://mooresvillenow.com/wp-content/uploads/2024/11/428674137_905869428206247_288779134687193282_n.jpg
END:VEVENT
END:VCALENDAR