BEGIN:VCALENDAR
VERSION:2.0
PRODID:-//Mooresville Now - ECPv6.15.20//NONSGML v1.0//EN
CALSCALE:GREGORIAN
METHOD:PUBLISH
X-ORIGINAL-URL:https://mooresvillenow.com
X-WR-CALDESC:Events for Mooresville Now
REFRESH-INTERVAL;VALUE=DURATION:PT1H
X-Robots-Tag:noindex
X-PUBLISHED-TTL:PT1H
BEGIN:VTIMEZONE
TZID:America/New_York
BEGIN:DAYLIGHT
TZOFFSETFROM:-0500
TZOFFSETTO:-0400
TZNAME:EDT
DTSTART:20230312T070000
END:DAYLIGHT
BEGIN:STANDARD
TZOFFSETFROM:-0400
TZOFFSETTO:-0500
TZNAME:EST
DTSTART:20231105T060000
END:STANDARD
BEGIN:DAYLIGHT
TZOFFSETFROM:-0500
TZOFFSETTO:-0400
TZNAME:EDT
DTSTART:20240310T070000
END:DAYLIGHT
BEGIN:STANDARD
TZOFFSETFROM:-0400
TZOFFSETTO:-0500
TZNAME:EST
DTSTART:20241103T060000
END:STANDARD
BEGIN:DAYLIGHT
TZOFFSETFROM:-0500
TZOFFSETTO:-0400
TZNAME:EDT
DTSTART:20250309T070000
END:DAYLIGHT
BEGIN:STANDARD
TZOFFSETFROM:-0400
TZOFFSETTO:-0500
TZNAME:EST
DTSTART:20251102T060000
END:STANDARD
END:VTIMEZONE
BEGIN:VEVENT
DTSTART;TZID=America/New_York:20241115T180000
DTEND;TZID=America/New_York:20241115T203000
DTSTAMP:20260422T091010
CREATED:20241114T223833Z
LAST-MODIFIED:20241114T223833Z
UID:4186-1731693600-1731702600@mooresvillenow.com
SUMMARY:South Fall Festival
DESCRIPTION:SOUTH FALL FESTIVAL & CULTURAL EXTRAVAGANZA \n\n\n\nFeaturing performances by African Children’s Choir and DandiLion Circus Acts. \nCrafts\, Games\, Demonstrations\, Raffle Baskets\, Cake Walk\, Food Trucks\, and More!!! \n\n\n\nAdmission is free! Gather your friends and family because there’s something for everyone to enjoy. \n\n\n\nWant extra tickets for the raffle baskets and cake walk? \nSouth is partnering with local community organizations to provide items for Christmas in backpacks for children in Marshall\, NC who were affected by Hurricane Helene. \nDonate one of the following items to receive free tickets for the raffle baskets and cake walk. Bring items to the Fall Festival and Cultural Extravaganza. \nWarm Clothing: winter cap\, gloves\, 2-3 pairs of socks\, and scarf. Canned Food: metal cans with a pop-top that doesn’t require a can opener. Recommended canned items include: Spaghettios\, vegetables\, & fruit. \nAge-Appropriate Toys: For example: toy cars\, doll\, Lego\, Slinky\, or stuffed animals.\nAge-Appropriate Games: For example: a card game\, puzzle\, jump rope\, sidewalk chalk\, or ball. \nToiletries: Hygiene items as toothbrush\, soap\, washcloth\, shampoo\, toothpaste\, deodorant\, and a brush/comb. Avoid “travel-size” toiletries\, but fit all of the items on a one-gallon Ziploc bag to prevent the items from leaking in the backpack.\nWrapped Candy: Avoid chocolate or peanut products. The chocolate melts and the peanuts have allergy risks.
URL:https://mooresvillenow.com/event/south-fall-festival/
LOCATION:North Carolina
ATTACH;FMTTYPE=application/pdf:https://mooresvillenow.com/wp-content/uploads/2024/11/Fall-Festival-and-Cultural-Extravaganza-1-1.pdf
END:VEVENT
END:VCALENDAR