BEGIN:VCALENDAR
VERSION:2.0
PRODID:-//Mooresville Now - ECPv6.15.20//NONSGML v1.0//EN
CALSCALE:GREGORIAN
METHOD:PUBLISH
X-WR-CALNAME:Mooresville Now
X-ORIGINAL-URL:https://mooresvillenow.com
X-WR-CALDESC:Events for Mooresville Now
REFRESH-INTERVAL;VALUE=DURATION:PT1H
X-Robots-Tag:noindex
X-PUBLISHED-TTL:PT1H
BEGIN:VTIMEZONE
TZID:America/New_York
BEGIN:DAYLIGHT
TZOFFSETFROM:-0500
TZOFFSETTO:-0400
TZNAME:EDT
DTSTART:20230312T070000
END:DAYLIGHT
BEGIN:STANDARD
TZOFFSETFROM:-0400
TZOFFSETTO:-0500
TZNAME:EST
DTSTART:20231105T060000
END:STANDARD
BEGIN:DAYLIGHT
TZOFFSETFROM:-0500
TZOFFSETTO:-0400
TZNAME:EDT
DTSTART:20240310T070000
END:DAYLIGHT
BEGIN:STANDARD
TZOFFSETFROM:-0400
TZOFFSETTO:-0500
TZNAME:EST
DTSTART:20241103T060000
END:STANDARD
BEGIN:DAYLIGHT
TZOFFSETFROM:-0500
TZOFFSETTO:-0400
TZNAME:EDT
DTSTART:20250309T070000
END:DAYLIGHT
BEGIN:STANDARD
TZOFFSETFROM:-0400
TZOFFSETTO:-0500
TZNAME:EST
DTSTART:20251102T060000
END:STANDARD
END:VTIMEZONE
BEGIN:VEVENT
DTSTART;TZID=America/New_York:20241114T170000
DTEND;TZID=America/New_York:20241114T200000
DTSTAMP:20260422T090803
CREATED:20241111T154651Z
LAST-MODIFIED:20241111T154651Z
UID:4152-1731603600-1731614400@mooresvillenow.com
SUMMARY:Downtown Mooresville - Shop the Block - Evening Shopping
DESCRIPTION:Downtown Mooresville business owners have a surprise for you!\nEvening shopping on the 2nd Thursdays*\, through December!\nParticipating businesses came together to offer evening shopping convenience\, ‘til 8pm on September 12\, October 10\, November 14 and December 12!\n .  .  .*check with individual businesses\nJoin us for this fun evening and don’t forget to fortify yourself and enjoy the tasty treats from our Downtown Mooresville food and beverage businesses already open. And\, there is Social Districting!\nANNA MACISAAC PHOTOGRAPHY | 125-5 N. Main Street | 704-918-5179\nCLIPPER’S FLOWERS | 360 N. Main Street | 704- 663-7673\nCOSMO GYPSY | 108 N. Broad Street | 347-843-5445\nEAST | 125 N. Main Street | N/A\nFOUR CORNERS FRAMING & GALLERY | 148 N. Main Street | 704-662-7154\nFRED & JUNE’S BOOKS | 248 N. Main Street | 980-389-4244\nTHE GARDEN ROOM | 162 N. Main Street | 704-213-9279\nTHE GINGERED FARMHOUSE | 166 N. Broad Street | 980-444-9151\nHAMPTON’S MEN’S | 138 N. Main Street | 704-230-4458\nJUELEYRE ARTISAN GALLERY & FINE GIFTS | 112 S. Main Street | 704-728-0460\nL.A. SKIN STUDIO | 174 N. Main Street | 704-564-1666\nNEW THINGS | 105 N. Main Street | 704-796-9857\nNORTH CAROLINA PROVISIONS COMPANY | 162 N. Broad Street\, Suite B | 704-664-0800\nROCK STAR RECORDS & CD’S | 127 N. Main Street | 704-680-2833\nSELL YOUR SOUL RECORDS | 124 S. Main Street | 732-841-3096\n704 HEMP CBD SHOP | 101 S. Broad Street | 704-746-9463\nSOUTHERN NOTIONS | 152 N. Main Street | 704-360-4317\nTHE VAULT BY COSMO GYPSY | 106 N. Broad Street | 347-843-5445
URL:https://mooresvillenow.com/event/downtown-mooresville-shop-the-block-evening-shopping/
LOCATION:North Carolina
ATTACH;FMTTYPE=image/jpeg:https://mooresvillenow.com/wp-content/uploads/2024/11/464493702_987195980119419_3825921677144634542_n.jpg
END:VEVENT
END:VCALENDAR