BEGIN:VCALENDAR
VERSION:2.0
PRODID:-//Mooresville Now - ECPv6.15.20//NONSGML v1.0//EN
CALSCALE:GREGORIAN
METHOD:PUBLISH
X-ORIGINAL-URL:https://mooresvillenow.com
X-WR-CALDESC:Events for Mooresville Now
REFRESH-INTERVAL;VALUE=DURATION:PT1H
X-Robots-Tag:noindex
X-PUBLISHED-TTL:PT1H
BEGIN:VTIMEZONE
TZID:America/New_York
BEGIN:DAYLIGHT
TZOFFSETFROM:-0500
TZOFFSETTO:-0400
TZNAME:EDT
DTSTART:20230312T070000
END:DAYLIGHT
BEGIN:STANDARD
TZOFFSETFROM:-0400
TZOFFSETTO:-0500
TZNAME:EST
DTSTART:20231105T060000
END:STANDARD
BEGIN:DAYLIGHT
TZOFFSETFROM:-0500
TZOFFSETTO:-0400
TZNAME:EDT
DTSTART:20240310T070000
END:DAYLIGHT
BEGIN:STANDARD
TZOFFSETFROM:-0400
TZOFFSETTO:-0500
TZNAME:EST
DTSTART:20241103T060000
END:STANDARD
BEGIN:DAYLIGHT
TZOFFSETFROM:-0500
TZOFFSETTO:-0400
TZNAME:EDT
DTSTART:20250309T070000
END:DAYLIGHT
BEGIN:STANDARD
TZOFFSETFROM:-0400
TZOFFSETTO:-0500
TZNAME:EST
DTSTART:20251102T060000
END:STANDARD
END:VTIMEZONE
BEGIN:VEVENT
DTSTART;TZID=America/New_York:20241111T130000
DTEND;TZID=America/New_York:20241111T150000
DTSTAMP:20260422T090950
CREATED:20241106T163427Z
LAST-MODIFIED:20241106T163548Z
UID:4061-1731330000-1731337200@mooresvillenow.com
SUMMARY:Veterans Day Parade - Honoring Hometown Heroes
DESCRIPTION:Mooresville’s annual Veterans Day Parade is a highlight of the week. The community is invited to honor local veterans as the parade makes its way down Main Street. Main Street will be closed to traffic before and during the parade. To participate in the parade\, register at Mooresvillenc.gov/VeteransDay.
URL:https://mooresvillenow.com/event/veterans-day-parade-honoring-hometown-heroes/
LOCATION:North Carolina
ATTACH;FMTTYPE=image/jpeg:https://mooresvillenow.com/wp-content/uploads/2024/11/463433186_1080706677389187_1827983398656303258_n.jpg
END:VEVENT
END:VCALENDAR