BEGIN:VCALENDAR
VERSION:2.0
PRODID:-//Mooresville Now - ECPv6.15.20//NONSGML v1.0//EN
CALSCALE:GREGORIAN
METHOD:PUBLISH
X-WR-CALNAME:Mooresville Now
X-ORIGINAL-URL:https://mooresvillenow.com
X-WR-CALDESC:Events for Mooresville Now
REFRESH-INTERVAL;VALUE=DURATION:PT1H
X-Robots-Tag:noindex
X-PUBLISHED-TTL:PT1H
BEGIN:VTIMEZONE
TZID:America/New_York
BEGIN:DAYLIGHT
TZOFFSETFROM:-0500
TZOFFSETTO:-0400
TZNAME:EDT
DTSTART:20230312T070000
END:DAYLIGHT
BEGIN:STANDARD
TZOFFSETFROM:-0400
TZOFFSETTO:-0500
TZNAME:EST
DTSTART:20231105T060000
END:STANDARD
BEGIN:DAYLIGHT
TZOFFSETFROM:-0500
TZOFFSETTO:-0400
TZNAME:EDT
DTSTART:20240310T070000
END:DAYLIGHT
BEGIN:STANDARD
TZOFFSETFROM:-0400
TZOFFSETTO:-0500
TZNAME:EST
DTSTART:20241103T060000
END:STANDARD
BEGIN:DAYLIGHT
TZOFFSETFROM:-0500
TZOFFSETTO:-0400
TZNAME:EDT
DTSTART:20250309T070000
END:DAYLIGHT
BEGIN:STANDARD
TZOFFSETFROM:-0400
TZOFFSETTO:-0500
TZNAME:EST
DTSTART:20251102T060000
END:STANDARD
END:VTIMEZONE
BEGIN:VEVENT
DTSTART;TZID=America/New_York:20241021T140000
DTEND;TZID=America/New_York:20241021T170000
DTSTAMP:20260422T103849
CREATED:20241001T072032Z
LAST-MODIFIED:20241001T072032Z
UID:3537-1729519200-1729530000@mooresvillenow.com
SUMMARY:Trunk or Treat Festival at The Feed Bucket
DESCRIPTION:Come get spooky with us at The Feed Bucket for our 1st ever Trunk or Treat Event\n\nMon Oct 21st at 6-9pm\n\n Free Giant Dry Slide  Trunk or Treat  Costume Contest for People & Pets & Best Decorated Car/Truck/Jeep  Spooky Halloween Music
URL:https://mooresvillenow.com/event/trunk-or-treat-festival-at-the-feed-bucket/
LOCATION:The Feed Bucket
ATTACH;FMTTYPE=image/jpeg:https://mooresvillenow.com/wp-content/uploads/2024/10/460652303_449350394920734_9148857063316034177_n.jpg
END:VEVENT
END:VCALENDAR